BEGIN:VCALENDAR
VERSION:2.0
PRODID:-//Hillsborough County Tax Collector - ECPv6.15.17.1//NONSGML v1.0//EN
CALSCALE:GREGORIAN
METHOD:PUBLISH
X-WR-CALNAME:Hillsborough County Tax Collector
X-ORIGINAL-URL:https://hillstaxflstg.cbmstage.com
X-WR-CALDESC:Events for Hillsborough County Tax Collector
REFRESH-INTERVAL;VALUE=DURATION:PT1H
X-Robots-Tag:noindex
X-PUBLISHED-TTL:PT1H
BEGIN:VTIMEZONE
TZID:America/New_York
BEGIN:DAYLIGHT
TZOFFSETFROM:-0500
TZOFFSETTO:-0400
TZNAME:EDT
DTSTART:20210314T070000
END:DAYLIGHT
BEGIN:STANDARD
TZOFFSETFROM:-0400
TZOFFSETTO:-0500
TZNAME:EST
DTSTART:20211107T060000
END:STANDARD
BEGIN:DAYLIGHT
TZOFFSETFROM:-0500
TZOFFSETTO:-0400
TZNAME:EDT
DTSTART:20220313T070000
END:DAYLIGHT
BEGIN:STANDARD
TZOFFSETFROM:-0400
TZOFFSETTO:-0500
TZNAME:EST
DTSTART:20221106T060000
END:STANDARD
BEGIN:DAYLIGHT
TZOFFSETFROM:-0500
TZOFFSETTO:-0400
TZNAME:EDT
DTSTART:20230312T070000
END:DAYLIGHT
BEGIN:STANDARD
TZOFFSETFROM:-0400
TZOFFSETTO:-0500
TZNAME:EST
DTSTART:20231105T060000
END:STANDARD
END:VTIMEZONE
BEGIN:VEVENT
DTSTART;TZID=America/New_York:20220401T000000
DTEND;TZID=America/New_York:20220401T235959
DTSTAMP:20260421T083054
CREATED:20251209T190205Z
LAST-MODIFIED:20251215T132013Z
UID:123866-1648771200-1648857599@hillstaxflstg.cbmstage.com
SUMMARY:April is Donate Life Month at HCTC Offices
DESCRIPTION:April is National Donate Life Month and we are looking forward to Donate Life Florida again this year! \nNational Donate Life Month (NDLM) was established by Donate Life America and its partnering organizations in 2003. Observed in April each year\, National Donate Life Month helps raise awareness about donation\, encourage Americans to register as organ\, eye and tissue donors and to honor those that have saved lives through the gift of donation. \nNational Donate Life Month 2022: Bee A Donor!\nFor National Donate Life Month (NDLM) 2022\, Donate Life America was inspired by the vital role that bees play in sustaining life. Bees are a small but powerful life force\, working together with dedication\, collaboration and a strong sense of community. \nThis National Donate Life Month\, we ask you to be a part of this interconnected life-sustaining community by registering as an organ\, eye and tissue donor; becoming educated about living donation; and championing the Donate Life cause. This year’s theme is:  “Show Love. Save a Life. Bee a Donor!” campaign. \nLearn more about Donate Life Florida here.
URL:https://hillstaxflstg.cbmstage.com/event/april-is-donate-life-month-at-hctc-offices/
CATEGORIES:Promotions
END:VEVENT
END:VCALENDAR